BEGIN:VCALENDAR
VERSION:2.0
PRODID:-//hacksw/handcal//NONSGML v1.0//EN
CALSCALE:GREGORIAN
BEGIN:VEVENT
DTEND:20200208T215900Z
UID:69e5e53cc88bf
DTSTAMP:20260420T083508Z
LOCATION:Nals
DESCRIPTION:
URL;VALUE=URI:https://burggrafenamt-online.eu/event/lederhosenball-der-sk-nals-2/
SUMMARY:Lederhosenball der SK Nals
DTSTART:20200208T180000Z
END:VEVENT
END:VCALENDAR