BEGIN:VCALENDAR
VERSION:2.0
PRODID:-//hacksw/handcal//NONSGML v1.0//EN
CALSCALE:GREGORIAN
BEGIN:VEVENT
DTEND:20151109T210000Z
UID:69e37998263e3
DTSTAMP:20260418T123120Z
LOCATION:Schützenheim Lana
DESCRIPTION:
URL;VALUE=URI:https://burggrafenamt-online.eu/event/hauptmaennerversammlung/
SUMMARY:Hauptmännerversammlung
DTSTART:20151109T180000Z
END:VEVENT
END:VCALENDAR