BEGIN:VCALENDAR
VERSION:2.0
PRODID:-//hacksw/handcal//NONSGML v1.0//EN
CALSCALE:GREGORIAN
BEGIN:VEVENT
DTEND:20161007T210000Z
UID:69e62d4324ee5
DTSTAMP:20260420T134227Z
LOCATION:Algund\, Obstgenossenschaft
DESCRIPTION:
URL;VALUE=URI:https://burggrafenamt-online.eu/event/bezirksleitungsexerzieren-2/
SUMMARY:Bezirksleitungsexerzieren
DTSTART:20161007T180000Z
END:VEVENT
END:VCALENDAR