BEGIN:VCALENDAR
VERSION:2.0
PRODID:-//hacksw/handcal//NONSGML v1.0//EN
CALSCALE:GREGORIAN
BEGIN:VEVENT
DTEND:20170924T210000Z
UID:69e6632e61618
DTSTAMP:20260420T173230Z
LOCATION:Lana - Boznerstraße 
DESCRIPTION:Kürbistage 2016 Lana in der Boznerstrasse
URL;VALUE=URI:https://burggrafenamt-online.eu/event/kuerbistage-lana-3/
SUMMARY:Kürbistage - Lana
DTSTART:20170922T170000Z
END:VEVENT
END:VCALENDAR